BEGIN:VCALENDAR
VERSION:2.0
PRODID:-//events.getlocalhop.com//localhop-calendar//EN
URL:https://api.getlocalhop.com/calendar?instance=A3CDVrmXEk&series=false
BEGIN:VEVENT
UID:event-instance-A3CDVrmXEk@events.getlocalhop.com
SEQUENCE:0
DTSTAMP:20260421T113618Z
DTSTART:20241202T213000Z
DTEND:20241202T223000Z
SUMMARY:The Studio Kids| Tape Painting
LOCATION:Greenwood Public Library\, 310 S. Meridian Greenwood\, IN 46143
DESCRIPTION:<p>Craftiness level: Intermediate\, appropriate for ages 6+</p
 >\n<p>Use tape and paint to make a masterpiece.</p>\n<p>&nbsp\;</p>\n<p>&n
 bsp\;</p>
URL;VALUE=URI:https://events.getlocalhop.com/the-studio-kidsor-tape-painti
 ng/event/qEQJHpqum9/
END:VEVENT
END:VCALENDAR