BEGIN:VCALENDAR
VERSION:2.0
PRODID:-//events.getlocalhop.com//localhop-calendar//EN
URL:https://api.getlocalhop.com/calendar?instance=9SUHk1Zj9R&series=false
BEGIN:VEVENT
UID:event-instance-9SUHk1Zj9R@events.getlocalhop.com
SEQUENCE:0
DTSTAMP:20260419T121310Z
DTSTART:20230930T150000Z
DTEND:20230930T190000Z
SUMMARY:Read in the Park with Rhonda Gowler Greene and Frank Anthony Polit
 o
LOCATION:Beverly Park\, 18801 Beverly Rd. Beverly Hills\, MI 48025\, In ca
 se of very inclement weather event will be held at Baldwin Public Library\
 , 300 W. Merrill\, Birmingham\, MI 48009.
DESCRIPTION:<p>Head to Beverly Park for the fifth annual Read in the Park 
 event! Meet the authors\, walk the Storybook Trail\, and enjoy beautiful B
 everly Park.</p>\n<p>At 11:00 a.m. visit with Rhonda Gowler Greene\, autho
 r of over twenty-five children's books including the new book\, Supergran!
  Afterwards\, walk the Story Book Trail featuring one of Rhonda Gowler Gre
 ene's books.</p>\n<p>At 1:00 p.m. visit with Hazel Park native Frank Antho
 ny Polito. Mr. Polito has published numerous novels\, most recently \"Rehe
 arsed to Death\" the second in a series of cozy mysteries set in the ficti
 onal town of Pleasant Woods. &nbsp\;He is a contributor to the lifestyle b
 log Kenneth and his home was featured on an episode of House Hunters.</p>\
 n<p>Both authors will take questions from the audience and sign books afte
 r they speak. Local bookseller The Book Beat of Oak Park will be on site s
 elling books from both authors. Presented by Baldwin Public Library and Th
 e Village of Beverly Hills Parks &amp\; Recreation\, with support from the
  Friends of Baldwin Public Library.</p>
URL;VALUE=URI:https://events.getlocalhop.com/read-in-the-park-with-rhonda-
 gowler-greene-and-frank-anthony-polito/event/Nd111oUY2y/
END:VEVENT
END:VCALENDAR