BEGIN:VCALENDAR
VERSION:2.0
PRODID:-//events.getlocalhop.com//localhop-calendar//EN
URL:https://api.getlocalhop.com/calendar?instance=90LnLGWAUF&series=false
BEGIN:VEVENT
UID:event-instance-90LnLGWAUF@events.getlocalhop.com
SEQUENCE:0
DTSTAMP:20260420T175921Z
DTSTART:20250529T170000Z
DTEND:20250529T180000Z
SUMMARY:Moms in Motion (A)
LOCATION:Manistee County Library - Arcadia Branch\, 3586 Glovers Lake Rd. 
 Arcadia\, MI 49613
DESCRIPTION:<p>Exercise\, empower\, and connect. Join us at the Pleasant V
 alley Community Center gym by the Arcadia library for fitness classes wher
 e you can bring your little one(s)! Leave feeling connected to yourself an
 d your baby.</p>\n<p>Registration required for adults. Children do not nee
 d to be registered.&nbsp\;</p>
URL;VALUE=URI:https://events.getlocalhop.com/moms-in-motion-a/event/AZrMT3
 RuYK/
END:VEVENT
END:VCALENDAR