BEGIN:VCALENDAR
VERSION:2.0
PRODID:-//events.getlocalhop.com//localhop-calendar//EN
URL:https://api.getlocalhop.com/calendar?instance=8bSbO2oIP4&series=true
BEGIN:VEVENT
UID:event-instance-8bSbO2oIP4@events.getlocalhop.com
SEQUENCE:0
DTSTAMP:20260421T111102Z
DTSTART:20260421T140000Z
DTEND:20260421T160000Z
SUMMARY:Fiber Friends
LOCATION:SCDL - Saranac Location\, 61 N. Bridge St. Saranac\, MI 48881
DESCRIPTION:<p>Join us weekly in Saranac to do fiber crafts with our group
 ! We welcome you to bring in your crocheting\, knitting\, or sewing projec
 ts! Coffee is provided.</p>
URL;VALUE=URI:https://events.getlocalhop.com/fiber-friends/event/HYkO7Up9o
 3/
END:VEVENT
BEGIN:VEVENT
UID:event-instance-hjanBqMPad@events.getlocalhop.com
SEQUENCE:0
DTSTAMP:20260421T111102Z
DTSTART:20260428T140000Z
DTEND:20260428T160000Z
SUMMARY:Fiber Friends
LOCATION:SCDL - Saranac Location\, 61 N. Bridge St. Saranac\, MI 48881
DESCRIPTION:<p>Join us weekly in Saranac to do fiber crafts with our group
 ! We welcome you to bring in your crocheting\, knitting\, or sewing projec
 ts! Coffee is provided.</p>
URL;VALUE=URI:https://events.getlocalhop.com/fiber-friends/event/HYkO7Up9o
 3/
END:VEVENT
BEGIN:VEVENT
UID:event-instance-zzwgMkbHUq@events.getlocalhop.com
SEQUENCE:0
DTSTAMP:20260421T111102Z
DTSTART:20260505T140000Z
DTEND:20260505T160000Z
SUMMARY:Fiber Friends
LOCATION:SCDL - Saranac Location\, 61 N. Bridge St. Saranac\, MI 48881
DESCRIPTION:<p>Join us weekly in Saranac to do fiber crafts with our group
 ! We welcome you to bring in your crocheting\, knitting\, or sewing projec
 ts! Coffee is provided.</p>
URL;VALUE=URI:https://events.getlocalhop.com/fiber-friends/event/HYkO7Up9o
 3/
END:VEVENT
BEGIN:VEVENT
UID:event-instance-Bnp9RUOB46@events.getlocalhop.com
SEQUENCE:0
DTSTAMP:20260421T111102Z
DTSTART:20260512T140000Z
DTEND:20260512T160000Z
SUMMARY:Fiber Friends
LOCATION:SCDL - Saranac Location\, 61 N. Bridge St. Saranac\, MI 48881
DESCRIPTION:<p>Join us weekly in Saranac to do fiber crafts with our group
 ! We welcome you to bring in your crocheting\, knitting\, or sewing projec
 ts! Coffee is provided.</p>
URL;VALUE=URI:https://events.getlocalhop.com/fiber-friends/event/HYkO7Up9o
 3/
END:VEVENT
BEGIN:VEVENT
UID:event-instance-nVk9o69GXj@events.getlocalhop.com
SEQUENCE:0
DTSTAMP:20260421T111102Z
DTSTART:20260519T140000Z
DTEND:20260519T160000Z
SUMMARY:Fiber Friends
LOCATION:SCDL - Saranac Location\, 61 N. Bridge St. Saranac\, MI 48881
DESCRIPTION:<p>Join us weekly in Saranac to do fiber crafts with our group
 ! We welcome you to bring in your crocheting\, knitting\, or sewing projec
 ts! Coffee is provided.</p>
URL;VALUE=URI:https://events.getlocalhop.com/fiber-friends/event/HYkO7Up9o
 3/
END:VEVENT
BEGIN:VEVENT
UID:event-instance-htWurWSFh7@events.getlocalhop.com
SEQUENCE:0
DTSTAMP:20260421T111102Z
DTSTART:20260526T140000Z
DTEND:20260526T160000Z
SUMMARY:Fiber Friends
LOCATION:SCDL - Saranac Location\, 61 N. Bridge St. Saranac\, MI 48881
DESCRIPTION:<p>Join us weekly in Saranac to do fiber crafts with our group
 ! We welcome you to bring in your crocheting\, knitting\, or sewing projec
 ts! Coffee is provided.</p>
URL;VALUE=URI:https://events.getlocalhop.com/fiber-friends/event/HYkO7Up9o
 3/
END:VEVENT
BEGIN:VEVENT
UID:event-instance-4y2Ql3HQdF@events.getlocalhop.com
SEQUENCE:0
DTSTAMP:20260421T111102Z
DTSTART:20260602T140000Z
DTEND:20260602T160000Z
SUMMARY:Fiber Friends
LOCATION:SCDL - Saranac Location\, 61 N. Bridge St. Saranac\, MI 48881
DESCRIPTION:<p>Join us weekly in Saranac to do fiber crafts with our group
 ! We welcome you to bring in your crocheting\, knitting\, or sewing projec
 ts! Coffee is provided.</p>
URL;VALUE=URI:https://events.getlocalhop.com/fiber-friends/event/HYkO7Up9o
 3/
END:VEVENT
BEGIN:VEVENT
UID:event-instance-xLYS1C17Dq@events.getlocalhop.com
SEQUENCE:0
DTSTAMP:20260421T111102Z
DTSTART:20260609T140000Z
DTEND:20260609T160000Z
SUMMARY:Fiber Friends
LOCATION:SCDL - Saranac Location\, 61 N. Bridge St. Saranac\, MI 48881
DESCRIPTION:<p>Join us weekly in Saranac to do fiber crafts with our group
 ! We welcome you to bring in your crocheting\, knitting\, or sewing projec
 ts! Coffee is provided.</p>
URL;VALUE=URI:https://events.getlocalhop.com/fiber-friends/event/HYkO7Up9o
 3/
END:VEVENT
BEGIN:VEVENT
UID:event-instance-82K7QQNSbP@events.getlocalhop.com
SEQUENCE:0
DTSTAMP:20260421T111102Z
DTSTART:20260616T140000Z
DTEND:20260616T160000Z
SUMMARY:Fiber Friends
LOCATION:SCDL - Saranac Location\, 61 N. Bridge St. Saranac\, MI 48881
DESCRIPTION:<p>Join us weekly in Saranac to do fiber crafts with our group
 ! We welcome you to bring in your crocheting\, knitting\, or sewing projec
 ts! Coffee is provided.</p>
URL;VALUE=URI:https://events.getlocalhop.com/fiber-friends/event/HYkO7Up9o
 3/
END:VEVENT
BEGIN:VEVENT
UID:event-instance-xNFrRoAG16@events.getlocalhop.com
SEQUENCE:0
DTSTAMP:20260421T111102Z
DTSTART:20260623T140000Z
DTEND:20260623T160000Z
SUMMARY:Fiber Friends
LOCATION:SCDL - Saranac Location\, 61 N. Bridge St. Saranac\, MI 48881
DESCRIPTION:<p>Join us weekly in Saranac to do fiber crafts with our group
 ! We welcome you to bring in your crocheting\, knitting\, or sewing projec
 ts! Coffee is provided.</p>
URL;VALUE=URI:https://events.getlocalhop.com/fiber-friends/event/HYkO7Up9o
 3/
END:VEVENT
BEGIN:VEVENT
UID:event-instance-1V5noAqIsi@events.getlocalhop.com
SEQUENCE:0
DTSTAMP:20260421T111102Z
DTSTART:20260630T140000Z
DTEND:20260630T160000Z
SUMMARY:Fiber Friends
LOCATION:SCDL - Saranac Location\, 61 N. Bridge St. Saranac\, MI 48881
DESCRIPTION:<p>Join us weekly in Saranac to do fiber crafts with our group
 ! We welcome you to bring in your crocheting\, knitting\, or sewing projec
 ts! Coffee is provided.</p>
URL;VALUE=URI:https://events.getlocalhop.com/fiber-friends/event/HYkO7Up9o
 3/
END:VEVENT
BEGIN:VEVENT
UID:event-instance-BV9WHLxDCZ@events.getlocalhop.com
SEQUENCE:0
DTSTAMP:20260421T111102Z
DTSTART:20260707T140000Z
DTEND:20260707T160000Z
SUMMARY:Fiber Friends
LOCATION:SCDL - Saranac Location\, 61 N. Bridge St. Saranac\, MI 48881
DESCRIPTION:<p>Join us weekly in Saranac to do fiber crafts with our group
 ! We welcome you to bring in your crocheting\, knitting\, or sewing projec
 ts! Coffee is provided.</p>
URL;VALUE=URI:https://events.getlocalhop.com/fiber-friends/event/HYkO7Up9o
 3/
END:VEVENT
BEGIN:VEVENT
UID:event-instance-8ouMnbIJCK@events.getlocalhop.com
SEQUENCE:0
DTSTAMP:20260421T111102Z
DTSTART:20260714T140000Z
DTEND:20260714T160000Z
SUMMARY:Fiber Friends
LOCATION:SCDL - Saranac Location\, 61 N. Bridge St. Saranac\, MI 48881
DESCRIPTION:<p>Join us weekly in Saranac to do fiber crafts with our group
 ! We welcome you to bring in your crocheting\, knitting\, or sewing projec
 ts! Coffee is provided.</p>
URL;VALUE=URI:https://events.getlocalhop.com/fiber-friends/event/HYkO7Up9o
 3/
END:VEVENT
BEGIN:VEVENT
UID:event-instance-EuMopUzNX4@events.getlocalhop.com
SEQUENCE:0
DTSTAMP:20260421T111102Z
DTSTART:20260721T140000Z
DTEND:20260721T160000Z
SUMMARY:Fiber Friends
LOCATION:SCDL - Saranac Location\, 61 N. Bridge St. Saranac\, MI 48881
DESCRIPTION:<p>Join us weekly in Saranac to do fiber crafts with our group
 ! We welcome you to bring in your crocheting\, knitting\, or sewing projec
 ts! Coffee is provided.</p>
URL;VALUE=URI:https://events.getlocalhop.com/fiber-friends/event/HYkO7Up9o
 3/
END:VEVENT
BEGIN:VEVENT
UID:event-instance-vM3HqMFCbO@events.getlocalhop.com
SEQUENCE:0
DTSTAMP:20260421T111102Z
DTSTART:20260728T140000Z
DTEND:20260728T160000Z
SUMMARY:Fiber Friends
LOCATION:SCDL - Saranac Location\, 61 N. Bridge St. Saranac\, MI 48881
DESCRIPTION:<p>Join us weekly in Saranac to do fiber crafts with our group
 ! We welcome you to bring in your crocheting\, knitting\, or sewing projec
 ts! Coffee is provided.</p>
URL;VALUE=URI:https://events.getlocalhop.com/fiber-friends/event/HYkO7Up9o
 3/
END:VEVENT
BEGIN:VEVENT
UID:event-instance-PW6LBzPzKQ@events.getlocalhop.com
SEQUENCE:0
DTSTAMP:20260421T111102Z
DTSTART:20260804T140000Z
DTEND:20260804T160000Z
SUMMARY:Fiber Friends
LOCATION:SCDL - Saranac Location\, 61 N. Bridge St. Saranac\, MI 48881
DESCRIPTION:<p>Join us weekly in Saranac to do fiber crafts with our group
 ! We welcome you to bring in your crocheting\, knitting\, or sewing projec
 ts! Coffee is provided.</p>
URL;VALUE=URI:https://events.getlocalhop.com/fiber-friends/event/HYkO7Up9o
 3/
END:VEVENT
BEGIN:VEVENT
UID:event-instance-xOt6gc9KnY@events.getlocalhop.com
SEQUENCE:0
DTSTAMP:20260421T111102Z
DTSTART:20260811T140000Z
DTEND:20260811T160000Z
SUMMARY:Fiber Friends
LOCATION:SCDL - Saranac Location\, 61 N. Bridge St. Saranac\, MI 48881
DESCRIPTION:<p>Join us weekly in Saranac to do fiber crafts with our group
 ! We welcome you to bring in your crocheting\, knitting\, or sewing projec
 ts! Coffee is provided.</p>
URL;VALUE=URI:https://events.getlocalhop.com/fiber-friends/event/HYkO7Up9o
 3/
END:VEVENT
BEGIN:VEVENT
UID:event-instance-ZVx1AMGWAR@events.getlocalhop.com
SEQUENCE:0
DTSTAMP:20260421T111102Z
DTSTART:20260818T140000Z
DTEND:20260818T160000Z
SUMMARY:Fiber Friends
LOCATION:SCDL - Saranac Location\, 61 N. Bridge St. Saranac\, MI 48881
DESCRIPTION:<p>Join us weekly in Saranac to do fiber crafts with our group
 ! We welcome you to bring in your crocheting\, knitting\, or sewing projec
 ts! Coffee is provided.</p>
URL;VALUE=URI:https://events.getlocalhop.com/fiber-friends/event/HYkO7Up9o
 3/
END:VEVENT
BEGIN:VEVENT
UID:event-instance-SmPkDnduDo@events.getlocalhop.com
SEQUENCE:0
DTSTAMP:20260421T111102Z
DTSTART:20260825T140000Z
DTEND:20260825T160000Z
SUMMARY:Fiber Friends
LOCATION:SCDL - Saranac Location\, 61 N. Bridge St. Saranac\, MI 48881
DESCRIPTION:<p>Join us weekly in Saranac to do fiber crafts with our group
 ! We welcome you to bring in your crocheting\, knitting\, or sewing projec
 ts! Coffee is provided.</p>
URL;VALUE=URI:https://events.getlocalhop.com/fiber-friends/event/HYkO7Up9o
 3/
END:VEVENT
BEGIN:VEVENT
UID:event-instance-Qp0S9JcRZv@events.getlocalhop.com
SEQUENCE:0
DTSTAMP:20260421T111102Z
DTSTART:20260901T140000Z
DTEND:20260901T160000Z
SUMMARY:Fiber Friends
LOCATION:SCDL - Saranac Location\, 61 N. Bridge St. Saranac\, MI 48881
DESCRIPTION:<p>Join us weekly in Saranac to do fiber crafts with our group
 ! We welcome you to bring in your crocheting\, knitting\, or sewing projec
 ts! Coffee is provided.</p>
URL;VALUE=URI:https://events.getlocalhop.com/fiber-friends/event/HYkO7Up9o
 3/
END:VEVENT
BEGIN:VEVENT
UID:event-instance-9gVvW2LyY4@events.getlocalhop.com
SEQUENCE:0
DTSTAMP:20260421T111102Z
DTSTART:20260908T140000Z
DTEND:20260908T160000Z
SUMMARY:Fiber Friends
LOCATION:SCDL - Saranac Location\, 61 N. Bridge St. Saranac\, MI 48881
DESCRIPTION:<p>Join us weekly in Saranac to do fiber crafts with our group
 ! We welcome you to bring in your crocheting\, knitting\, or sewing projec
 ts! Coffee is provided.</p>
URL;VALUE=URI:https://events.getlocalhop.com/fiber-friends/event/HYkO7Up9o
 3/
END:VEVENT
BEGIN:VEVENT
UID:event-instance-qGcQJCFuAc@events.getlocalhop.com
SEQUENCE:0
DTSTAMP:20260421T111102Z
DTSTART:20260915T140000Z
DTEND:20260915T160000Z
SUMMARY:Fiber Friends
LOCATION:SCDL - Saranac Location\, 61 N. Bridge St. Saranac\, MI 48881
DESCRIPTION:<p>Join us weekly in Saranac to do fiber crafts with our group
 ! We welcome you to bring in your crocheting\, knitting\, or sewing projec
 ts! Coffee is provided.</p>
URL;VALUE=URI:https://events.getlocalhop.com/fiber-friends/event/HYkO7Up9o
 3/
END:VEVENT
BEGIN:VEVENT
UID:event-instance-rcArREaxa9@events.getlocalhop.com
SEQUENCE:0
DTSTAMP:20260421T111102Z
DTSTART:20260922T140000Z
DTEND:20260922T160000Z
SUMMARY:Fiber Friends
LOCATION:SCDL - Saranac Location\, 61 N. Bridge St. Saranac\, MI 48881
DESCRIPTION:<p>Join us weekly in Saranac to do fiber crafts with our group
 ! We welcome you to bring in your crocheting\, knitting\, or sewing projec
 ts! Coffee is provided.</p>
URL;VALUE=URI:https://events.getlocalhop.com/fiber-friends/event/HYkO7Up9o
 3/
END:VEVENT
BEGIN:VEVENT
UID:event-instance-JpQGYgOFfy@events.getlocalhop.com
SEQUENCE:0
DTSTAMP:20260421T111102Z
DTSTART:20260929T140000Z
DTEND:20260929T160000Z
SUMMARY:Fiber Friends
LOCATION:SCDL - Saranac Location\, 61 N. Bridge St. Saranac\, MI 48881
DESCRIPTION:<p>Join us weekly in Saranac to do fiber crafts with our group
 ! We welcome you to bring in your crocheting\, knitting\, or sewing projec
 ts! Coffee is provided.</p>
URL;VALUE=URI:https://events.getlocalhop.com/fiber-friends/event/HYkO7Up9o
 3/
END:VEVENT
BEGIN:VEVENT
UID:event-instance-eQ8Z6nGkJi@events.getlocalhop.com
SEQUENCE:0
DTSTAMP:20260421T111102Z
DTSTART:20261006T140000Z
DTEND:20261006T160000Z
SUMMARY:Fiber Friends
LOCATION:SCDL - Saranac Location\, 61 N. Bridge St. Saranac\, MI 48881
DESCRIPTION:<p>Join us weekly in Saranac to do fiber crafts with our group
 ! We welcome you to bring in your crocheting\, knitting\, or sewing projec
 ts! Coffee is provided.</p>
URL;VALUE=URI:https://events.getlocalhop.com/fiber-friends/event/HYkO7Up9o
 3/
END:VEVENT
BEGIN:VEVENT
UID:event-instance-XHhL2HnYCR@events.getlocalhop.com
SEQUENCE:0
DTSTAMP:20260421T111102Z
DTSTART:20261013T140000Z
DTEND:20261013T160000Z
SUMMARY:Fiber Friends
LOCATION:SCDL - Saranac Location\, 61 N. Bridge St. Saranac\, MI 48881
DESCRIPTION:<p>Join us weekly in Saranac to do fiber crafts with our group
 ! We welcome you to bring in your crocheting\, knitting\, or sewing projec
 ts! Coffee is provided.</p>
URL;VALUE=URI:https://events.getlocalhop.com/fiber-friends/event/HYkO7Up9o
 3/
END:VEVENT
BEGIN:VEVENT
UID:event-instance-H0BjSbVxtX@events.getlocalhop.com
SEQUENCE:0
DTSTAMP:20260421T111102Z
DTSTART:20261020T140000Z
DTEND:20261020T160000Z
SUMMARY:Fiber Friends
LOCATION:SCDL - Saranac Location\, 61 N. Bridge St. Saranac\, MI 48881
DESCRIPTION:<p>Join us weekly in Saranac to do fiber crafts with our group
 ! We welcome you to bring in your crocheting\, knitting\, or sewing projec
 ts! Coffee is provided.</p>
URL;VALUE=URI:https://events.getlocalhop.com/fiber-friends/event/HYkO7Up9o
 3/
END:VEVENT
BEGIN:VEVENT
UID:event-instance-7SdD63q8Nd@events.getlocalhop.com
SEQUENCE:0
DTSTAMP:20260421T111102Z
DTSTART:20261027T140000Z
DTEND:20261027T160000Z
SUMMARY:Fiber Friends
LOCATION:SCDL - Saranac Location\, 61 N. Bridge St. Saranac\, MI 48881
DESCRIPTION:<p>Join us weekly in Saranac to do fiber crafts with our group
 ! We welcome you to bring in your crocheting\, knitting\, or sewing projec
 ts! Coffee is provided.</p>
URL;VALUE=URI:https://events.getlocalhop.com/fiber-friends/event/HYkO7Up9o
 3/
END:VEVENT
BEGIN:VEVENT
UID:event-instance-7WwtRAfSxL@events.getlocalhop.com
SEQUENCE:0
DTSTAMP:20260421T111102Z
DTSTART:20261103T150000Z
DTEND:20261103T170000Z
SUMMARY:Fiber Friends
LOCATION:SCDL - Saranac Location\, 61 N. Bridge St. Saranac\, MI 48881
DESCRIPTION:<p>Join us weekly in Saranac to do fiber crafts with our group
 ! We welcome you to bring in your crocheting\, knitting\, or sewing projec
 ts! Coffee is provided.</p>
URL;VALUE=URI:https://events.getlocalhop.com/fiber-friends/event/HYkO7Up9o
 3/
END:VEVENT
BEGIN:VEVENT
UID:event-instance-73C5Too4Na@events.getlocalhop.com
SEQUENCE:0
DTSTAMP:20260421T111102Z
DTSTART:20261110T150000Z
DTEND:20261110T170000Z
SUMMARY:Fiber Friends
LOCATION:SCDL - Saranac Location\, 61 N. Bridge St. Saranac\, MI 48881
DESCRIPTION:<p>Join us weekly in Saranac to do fiber crafts with our group
 ! We welcome you to bring in your crocheting\, knitting\, or sewing projec
 ts! Coffee is provided.</p>
URL;VALUE=URI:https://events.getlocalhop.com/fiber-friends/event/HYkO7Up9o
 3/
END:VEVENT
BEGIN:VEVENT
UID:event-instance-mg8IPk5kXy@events.getlocalhop.com
SEQUENCE:0
DTSTAMP:20260421T111102Z
DTSTART:20261117T150000Z
DTEND:20261117T170000Z
SUMMARY:Fiber Friends
LOCATION:SCDL - Saranac Location\, 61 N. Bridge St. Saranac\, MI 48881
DESCRIPTION:<p>Join us weekly in Saranac to do fiber crafts with our group
 ! We welcome you to bring in your crocheting\, knitting\, or sewing projec
 ts! Coffee is provided.</p>
URL;VALUE=URI:https://events.getlocalhop.com/fiber-friends/event/HYkO7Up9o
 3/
END:VEVENT
BEGIN:VEVENT
UID:event-instance-9ozoeUXzHt@events.getlocalhop.com
SEQUENCE:0
DTSTAMP:20260421T111102Z
DTSTART:20261124T150000Z
DTEND:20261124T170000Z
SUMMARY:Fiber Friends
LOCATION:SCDL - Saranac Location\, 61 N. Bridge St. Saranac\, MI 48881
DESCRIPTION:<p>Join us weekly in Saranac to do fiber crafts with our group
 ! We welcome you to bring in your crocheting\, knitting\, or sewing projec
 ts! Coffee is provided.</p>
URL;VALUE=URI:https://events.getlocalhop.com/fiber-friends/event/HYkO7Up9o
 3/
END:VEVENT
BEGIN:VEVENT
UID:event-instance-aIRPJ5tdFd@events.getlocalhop.com
SEQUENCE:0
DTSTAMP:20260421T111102Z
DTSTART:20261201T150000Z
DTEND:20261201T170000Z
SUMMARY:Fiber Friends
LOCATION:SCDL - Saranac Location\, 61 N. Bridge St. Saranac\, MI 48881
DESCRIPTION:<p>Join us weekly in Saranac to do fiber crafts with our group
 ! We welcome you to bring in your crocheting\, knitting\, or sewing projec
 ts! Coffee is provided.</p>
URL;VALUE=URI:https://events.getlocalhop.com/fiber-friends/event/HYkO7Up9o
 3/
END:VEVENT
BEGIN:VEVENT
UID:event-instance-9nlJ0CYRxc@events.getlocalhop.com
SEQUENCE:0
DTSTAMP:20260421T111102Z
DTSTART:20261208T150000Z
DTEND:20261208T170000Z
SUMMARY:Fiber Friends
LOCATION:SCDL - Saranac Location\, 61 N. Bridge St. Saranac\, MI 48881
DESCRIPTION:<p>Join us weekly in Saranac to do fiber crafts with our group
 ! We welcome you to bring in your crocheting\, knitting\, or sewing projec
 ts! Coffee is provided.</p>
URL;VALUE=URI:https://events.getlocalhop.com/fiber-friends/event/HYkO7Up9o
 3/
END:VEVENT
BEGIN:VEVENT
UID:event-instance-NQ0Pv4MkYH@events.getlocalhop.com
SEQUENCE:0
DTSTAMP:20260421T111102Z
DTSTART:20261215T150000Z
DTEND:20261215T170000Z
SUMMARY:Fiber Friends
LOCATION:SCDL - Saranac Location\, 61 N. Bridge St. Saranac\, MI 48881
DESCRIPTION:<p>Join us weekly in Saranac to do fiber crafts with our group
 ! We welcome you to bring in your crocheting\, knitting\, or sewing projec
 ts! Coffee is provided.</p>
URL;VALUE=URI:https://events.getlocalhop.com/fiber-friends/event/HYkO7Up9o
 3/
END:VEVENT
BEGIN:VEVENT
UID:event-instance-D4jj1MPqA5@events.getlocalhop.com
SEQUENCE:0
DTSTAMP:20260421T111102Z
DTSTART:20261222T150000Z
DTEND:20261222T170000Z
SUMMARY:Fiber Friends
LOCATION:SCDL - Saranac Location\, 61 N. Bridge St. Saranac\, MI 48881
DESCRIPTION:<p>Join us weekly in Saranac to do fiber crafts with our group
 ! We welcome you to bring in your crocheting\, knitting\, or sewing projec
 ts! Coffee is provided.</p>
URL;VALUE=URI:https://events.getlocalhop.com/fiber-friends/event/HYkO7Up9o
 3/
END:VEVENT
BEGIN:VEVENT
UID:event-instance-hscTfNbiei@events.getlocalhop.com
SEQUENCE:0
DTSTAMP:20260421T111102Z
DTSTART:20261229T150000Z
DTEND:20261229T170000Z
SUMMARY:Fiber Friends
LOCATION:SCDL - Saranac Location\, 61 N. Bridge St. Saranac\, MI 48881
DESCRIPTION:<p>Join us weekly in Saranac to do fiber crafts with our group
 ! We welcome you to bring in your crocheting\, knitting\, or sewing projec
 ts! Coffee is provided.</p>
URL;VALUE=URI:https://events.getlocalhop.com/fiber-friends/event/HYkO7Up9o
 3/
END:VEVENT
END:VCALENDAR