BEGIN:VCALENDAR
VERSION:2.0
PRODID:-//events.getlocalhop.com//localhop-calendar//EN
URL:https://api.getlocalhop.com/calendar?instance=8R81sX76cF&series=false
BEGIN:VEVENT
UID:event-instance-8R81sX76cF@events.getlocalhop.com
SEQUENCE:0
DTSTAMP:20260421T093843Z
DTSTART:20220507T160000Z
DTEND:20220507T190000Z
SUMMARY:Books on the Lake
LOCATION:Grosse Pointe Yacht Club\, 788 Lake Shore Rd Grosse Pointe Shores
 \, MI 48236
DESCRIPTION:<p>Tickets on sale April 7\, 2022</p>\n<p>Featured Authors:</p
 >\n<p><strong>Tayari Jones</strong> -- An American Marriage\, Silver Sparr
 ow\, The Untelling and Leaving Atlanta<br /><strong>Bethany Ball</strong> 
 -- The Pessimists<br /><strong>Kelsey Ronan</strong> -- Local author\, Che
 vy in the Hole</p>\n<p>Sponsored by:<br /><em>Grosse Pointe Library Founda
 tion&nbsp\;</em><br /><em>Friends of the Grosse Pointe Library</em><br /><
 em>Wayne County Community College District</em></p>\n<p>Tickets are $35 ea
 ch<br />Table of 8 can be purchased for $280</p>
URL;VALUE=URI:https://events.getlocalhop.com/books-on-the-lake/event/7LGVe
 AmQan/
END:VEVENT
END:VCALENDAR