BEGIN:VCALENDAR
VERSION:2.0
PRODID:-//events.getlocalhop.com//localhop-calendar//EN
URL:https://api.getlocalhop.com/calendar?instance=8C1crJo9Q1&series=false
BEGIN:VEVENT
UID:event-instance-8C1crJo9Q1@events.getlocalhop.com
SEQUENCE:0
DTSTAMP:20260419T120819Z
DTSTART:20260414T150000Z
DTEND:20260414T181500Z
SUMMARY:Room Reservation
LOCATION:Meeting Room - Brandon Township Public Library\, 304 SOUTH ST ORT
 ONVILLE\, MI 48462\, Meeting Room
DESCRIPTION:<p>Meeting Room</p>
URL;VALUE=URI:https://events.getlocalhop.com/room-reservation/event/D1Zcli
 95i9/
END:VEVENT
END:VCALENDAR