BEGIN:VCALENDAR
VERSION:2.0
PRODID:-//events.getlocalhop.com//localhop-calendar//EN
URL:https://api.getlocalhop.com/calendar?instance=8BNwkxTAY3&series=false
BEGIN:VEVENT
UID:event-instance-8BNwkxTAY3@events.getlocalhop.com
SEQUENCE:0
DTSTAMP:20260421T111533Z
DTSTART:20240519T140000Z
DTEND:20240519T210000Z
SUMMARY:BIG Summer Sale  & Pointe Shoe Fittings - Sunday 5/19/24
LOCATION:169 Portage Street Kalamazoo\, MI 49007
DESCRIPTION:<p>There are going go be hundreds of leotards! Lots of warm-up
 s\, accessories\, shoes\, tights&hellip\; Our $6 Table will be back with a
 nother round of amazing deals! It&rsquo\;s our biggest sale of the year! T
 he sale officially starts online at 12:01am Saturday morning (May 18) and 
 in the shop 10am Saturday. The big set up for the sale runs through May 21
  and we will have special shop hours for the sale.&nbsp\;</p>\n<p>While yo
 u are visiting us for the BIG Summer Sale\, you are welcome to shop for an
 y of your other dance needs that might not be on sale. Pointe Shoe fitting
 s always require an appointment\, and pointe shoe fitting appointments are
  more limited during sale days.&nbsp\;</p>\n<p>All clearance items are fin
 al sale. Online shoppers can choose shipping option or can pickup in the s
 hop.</p>
URL;VALUE=URI:https://events.getlocalhop.com/big-summer-sale-and-pointe-sh
 oe-fittings-sunday-51924/event/4hRoQBWBfE/
END:VEVENT
END:VCALENDAR