BEGIN:VCALENDAR
VERSION:2.0
PRODID:-//events.getlocalhop.com//localhop-calendar//EN
URL:https://api.getlocalhop.com/calendar?instance=7U633KWWax&series=false
BEGIN:VEVENT
UID:event-instance-7U633KWWax@events.getlocalhop.com
SEQUENCE:0
DTSTAMP:20260424T164139Z
DTSTART:20240719T120000Z
DTEND:20240719T144500Z
SUMMARY:Summer Hike - Bull Hill Short Loop
LOCATION:Washburn Trail on Bull Hill Parking Lot\, 9 D Cold Spring\, NY 10
 516
DESCRIPTION:<p>For our fourth summer hike\, we will be hiking the Bull Hil
 l Short Loop. This trail is 4.6 miles and will take approximately 2 hrs an
 d 30 minutes to complete.&nbsp\; This is considered a hard hike with steep
  inclines and rocky terrain.</p>\n<p>Please park in the Washburn Trail on 
 Bull Hill parking lot on 9D.&nbsp\; It will be on the right hand side of t
 he road opposite Little Stony Point as you drive north to Beacon.</p>\n<p>
 Make sure to bring water\, snacks\, and dress in weather-appropriate layer
 s.&nbsp\; Hiking boots and shoes are encouraged.&nbsp\; If you use trekkin
 g poles\, make sure to bring them.&nbsp\; It is tick season\, so please co
 nsider wearing long sleeves and taking other precautions against ticks.&nb
 sp\; &nbsp\;In the event of inclement weather\, the hike will be postponed
 .</p>\n<p>This program is open to patrons of all ages.&nbsp\; Registration
  is required.</p>\n<p>If you have any questions or require additional info
 rmation\, please email jessicar@butterfieldlibrary.org</p>
URL;VALUE=URI:https://events.getlocalhop.com/summer-hike-bull-hill-short-l
 oop/event/Yq9CQTwU4C/
END:VEVENT
END:VCALENDAR