BEGIN:VCALENDAR
VERSION:2.0
PRODID:-//events.getlocalhop.com//localhop-calendar//EN
URL:https://api.getlocalhop.com/calendar?instance=7MFsCekaoW&series=false
BEGIN:VEVENT
UID:event-instance-7MFsCekaoW@events.getlocalhop.com
SEQUENCE:0
DTSTAMP:20260421T093716Z
DTSTART:20260228T150000Z
DTEND:20260228T170000Z
SUMMARY:Free Tech Help: Meet Your Digital Navigators
LOCATION:Trenton Veterans Memorial Library\, 2790 Westfield Road Trenton\,
  MI 48183
DESCRIPTION:<p>Need help with your smartphone\, laptop\, or tablet?&nbsp\;
  Stop by to meet our Digital Navigators and learn about our free\, one-on-
 one technology help program.&nbsp\; This informational drop-in is a chance
  to ask questions\, learn what support is available and find out how the D
 igital Navigator program can help build your digital confidence.&nbsp\;&nb
 sp\;</p>\n<p>&nbsp\;</p>\n<p>Please register on our events calendar or by 
 calling the library at 734-676-9777.</p>
URL;VALUE=URI:https://events.getlocalhop.com/free-tech-help-meet-your-digi
 tal-navigators/event/E27HYcFum5/
END:VEVENT
END:VCALENDAR