BEGIN:VCALENDAR
VERSION:2.0
PRODID:-//events.getlocalhop.com//localhop-calendar//EN
URL:https://api.getlocalhop.com/calendar?instance=6bcLWybgO3&series=false
BEGIN:VEVENT
UID:event-instance-6bcLWybgO3@events.getlocalhop.com
SEQUENCE:0
DTSTAMP:20260424T131219Z
DTSTART:20241214T210000Z
DTEND:20241215T020000Z
SUMMARY:Detroit Roller Derby Season 18: Home Teams | Double Header
LOCATION:Masonic Temple\, 500 Temple St. Detroit\, MI 48201
DESCRIPTION:<p><strong>TICKETS AVAILABLE AT THE DOOR!</strong></p>\n<p>&nb
 sp\;</p>\n<p>Detroit Roller Derby's Season 18. Watch our four awesome home
  teams take the track! And don't forget to come dressed in your favorite o
 nesie for this PAJAMA PARTY bout!</p>\n<p>&nbsp\;</p>\n<p>Tickets are avai
 lable online through midnight the night before the event. &nbsp\;Tickets a
 re also available at the door on the day of the event.</p>\n<p>&nbsp\;</p>
 \n<p>Doors open at 4:00 p.m and the first whistle will blow at 5:00 p.m.!<
 /p>\n<p>5:00pm - Grand Prix Madonnas versus Detroit Pistoffs</p>\n<p>7:00p
 m - Devil's Night Dames versus Detroit Funk</p>\n<p>&nbsp\;</p>\n<p>Ticket
  prices:</p>\n<p>Pre-Sale: $18</p>\n<p>Week of: $19</p>\n<p>Door: $20</p>\
 n<p>Vets/Students/Alumni: $15 (cash at door only)</p>\n<p>Children 5-17: $
 10</p>\n<p>Children Under 5: Free</p>\n<p>This bout will be held at the De
 troit Masonic Temple\, 500 Temple Street\, Detroit\, MI 48201.</p>\n<p>&nb
 sp\;</p>\n<p><strong>**All Ticket fees included in price</strong></p>\n<p>
 <strong>***NO REFUNDS OR EXCHANGES&nbsp\;</strong></p>\n<p><strong>****Ema
 il: tickets@detroitrollerderby.com for questions and group rates</strong><
 /p>\n<p>&nbsp\;</p>\n<p><span style=\"text-decoration: underline\;\"><stro
 ng>Don't just watch us play--find out how you can play with us:</strong></
 span></p>\n<p>&nbsp\;</p>\n<p>Detroit Roller Derby // Detroit Junior Rolle
 r Derby</p>\n<p>&nbsp\;</p>\n<p>Want to get your life back \"on track\" at
  a bootcamp? Or know someone else who might want to? (Maybe you strapped o
 n some skates at the beginning of the pandemic and you became the real dea
 l? Come skate with us!) Don't know how to skate or how you might fit into 
 our community? No worries\, we can help! We need and welcome any and every
 one\, we want YOU!</p>\n<p>&nbsp\;</p>\n<p>For more info email <span style
 =\"text-decoration: underline\;\">hr@detroitrollerderby.com</span></p>\n<p
 >&nbsp\;</p>\n<p><br />#Detroit #DetroitRollerDerby #RollerSkate #RollerDe
 rby #Michigan #Sports</p>
URL;VALUE=URI:https://events.getlocalhop.com/detroit-roller-derby-season-1
 8-home-teams-or-double-header/event/T9j83znAtc/
END:VEVENT
END:VCALENDAR