BEGIN:VCALENDAR
VERSION:2.0
PRODID:-//events.getlocalhop.com//localhop-calendar//EN
URL:https://api.getlocalhop.com/calendar?instance=6TNNwjFsxf&series=false
BEGIN:VEVENT
UID:event-instance-6TNNwjFsxf@events.getlocalhop.com
SEQUENCE:0
DTSTAMP:20260425T112248Z
DTSTART:20251115T230000Z
DTEND:20251116T020000Z
SUMMARY:Oakland County's Historical Society Autumn Auction Affair
LOCATION:Pontiac Creative Arts Center\, 47 Williams Street Pontiac\, MI 48
 341
DESCRIPTION:<p>Our fall auction gala tradition returns! Held at the histor
 ic Pontiac Creative Arts Center at 47 Williams Street in Pontiac\, Michiga
 n.</p>\n<p>A Guaranteed Fun\, Festive\, Fall Time! Strolling Reception - S
 ilent Auction &amp\; Live Auction - Ticket Proceeds Benefit both our non-p
 rofit Historical Society &amp\; the non-profit Pontiac Creative Arts Cente
 r</p>
URL;VALUE=URI:https://events.getlocalhop.com/oakland-countys-historical-so
 ciety-autumn-auction-affair/event/lePKUOAiBx/
END:VEVENT
END:VCALENDAR