BEGIN:VCALENDAR
VERSION:2.0
PRODID:-//events.getlocalhop.com//localhop-calendar//EN
URL:https://api.getlocalhop.com/calendar?instance=5yHNKcIxFj&series=false
BEGIN:VEVENT
UID:event-instance-5yHNKcIxFj@events.getlocalhop.com
SEQUENCE:0
DTSTAMP:20260421T095346Z
DTSTART:20241207T143000Z
DTEND:20241207T183000Z
SUMMARY:Handmade Holiday Market + Santa Claus
LOCATION:Middlebury Public Library\, 101 East Winslow St. Middlebury\, IN 
 46540\, Community Rooms
DESCRIPTION:<p>The Handmade Holiday Market is back! Pick up handmade gifts
  for your friends and family from local artisans! Bring your littles along
 \; we'll have a craft table for kids all day\, and Santa Claus will be her
 e from 10-11. Plus\, enjoy hot drinks and cookies and browse the gingerbre
 ad houses on display for <a href=\"https://www.middleburythenandnow.org/bl
 ank\">Middlebury Then &amp\; Now's Gingerbread Jamboree</a>.</p>\n<p>This 
 event is a fundraiser for the Friends of the Library to support library ma
 terials and programming.</p>
URL;VALUE=URI:https://events.getlocalhop.com/handmade-holiday-market-santa
 -claus/event/5gizfPNWHZ/
END:VEVENT
END:VCALENDAR