BEGIN:VCALENDAR
VERSION:2.0
PRODID:-//events.getlocalhop.com//localhop-calendar//EN
URL:https://api.getlocalhop.com/calendar?instance=5qdRiG5qmU&series=false
BEGIN:VEVENT
UID:event-instance-5qdRiG5qmU@events.getlocalhop.com
SEQUENCE:0
DTSTAMP:20260420T102540Z
DTSTART:20260312T230000Z
DTEND:20260313T003000Z
SUMMARY:Spring Watercolors Painting Class: The Rhythm of the Season
LOCATION:Richland Community Library\, 8951 Park Street Richland\, MI 49083
 \, Community Room
DESCRIPTION:<p>Present by Gina Stevens.</p>\n<p>This mixed-media watercolo
 r class walks you step by step through watercolor layering techniques as y
 ou create a four-tree landscape representing the four seasons. As the eart
 h wakes up this Spring\, honor the season you are in!&nbsp\;</p>\n<p>All m
 aterials provided. No art experience necessary. Intended for ages 16+.</p>
 \n<p><strong>In order to allow for more people to enjoy this series\, we a
 sk that you <span style=\"text-decoration: underline\;\">only sign up for 
 one</span> of three classes.</strong></p>\n<p><em>About Gina Stevens:</em>
 <br />Artist Gina Stevens has written &amp\; illustrated three children&rs
 quo\;s picture books. She lives right here in Richland.</p>\n<p><em>Note t
 o Attendees: Because this program is happening outside of library hours\, 
 access to the library may be limited. This includes lights being off\, doo
 rs being locked and circulation services being down. If you have any reaso
 n to believe you may be more than 5 minutes late to this event\, you may h
 ave trouble accessing the building. Please contact the library before the 
 event if this may be an issue.</em></p>
URL;VALUE=URI:https://events.getlocalhop.com/spring-watercolors-painting-c
 lass-the-rhythm-of-the-season/event/C3rcXRn7Lk/
END:VEVENT
END:VCALENDAR