BEGIN:VCALENDAR
VERSION:2.0
PRODID:-//events.getlocalhop.com//localhop-calendar//EN
URL:https://api.getlocalhop.com/calendar?instance=5TwCE2udRz&series=false
BEGIN:VEVENT
UID:event-instance-5TwCE2udRz@events.getlocalhop.com
SEQUENCE:0
DTSTAMP:20260425T153244Z
DTSTART:20260507T223000Z
DTEND:20260508T000000Z
SUMMARY:After Hours Book Club at The Outsider
LOCATION:The Outsider\, 457 River St Manistee\, MI 49660
DESCRIPTION:<p>New name and new location! Join us for After Hours Book Clu
 b the first Thursday of every month from 6:30-8 pm at The Outsider. We can
 't wait to see you there!</p>\n<p>This month we are reading \"In Five Year
 s\" by Rebecca Serle. You can get our copy at Manistee County Library\, or
  get a copy through MeL\, and it's available in audiobook as well.&nbsp\;&
 nbsp\;</p>\n<p>Registration is required.&nbsp\;</p>
URL;VALUE=URI:https://events.getlocalhop.com/after-hours-book-club-at-the-
 outsider/event/CDNaFbqhw7/
END:VEVENT
END:VCALENDAR