BEGIN:VCALENDAR
VERSION:2.0
PRODID:-//events.getlocalhop.com//localhop-calendar//EN
URL:https://api.getlocalhop.com/calendar?instance=5LFEgLZjNV&series=false
BEGIN:VEVENT
UID:event-instance-5LFEgLZjNV@events.getlocalhop.com
SEQUENCE:0
DTSTAMP:20260420T224720Z
DTSTART:20250206T233000Z
DTEND:20250207T010000Z
SUMMARY:Speed-friending at North Channel
LOCATION:North Channel Brewing Company\, 86 Washington St Manistee\, MI 49
 660
DESCRIPTION:<p>FOR ADULTS 21 AND OVER!</p>\n<p>&nbsp\;</p>\n<p>Manistee Co
 unty Library is excited to team up with North Channel Brewing Company for 
 Speed-friending! Ever feel like it's just too hard to make friends as you 
 grow older? Join us at North Channel where we will be getting to know new 
 people in a \"speed-dating\" fashion. Just like speed dating\, you'll spen
 d a few minutes with each person and see who you vibe with. We'll include 
 ice breaker questions and have more time at the end to talk more with the 
 people you connected with and you'll be able to share your information wit
 h them.&nbsp\;&nbsp\;</p>\n<p>&nbsp\;</p>\n<p>This free event is intended 
 for adults age 21 and over. Beer is not included but available for purchas
 e. RESERVATIONS REQUIRED.&nbsp\;</p>\n<p>RSVP here online or call (231) 72
 3-2519.</p>
URL;VALUE=URI:https://events.getlocalhop.com/speedfriending-at-north-chann
 el/event/Q09TKMKGYa/
END:VEVENT
END:VCALENDAR