BEGIN:VCALENDAR
VERSION:2.0
PRODID:-//events.getlocalhop.com//localhop-calendar//EN
URL:https://api.getlocalhop.com/calendar?instance=5IMAl61pg4&series=false
BEGIN:VEVENT
UID:event-instance-5IMAl61pg4@events.getlocalhop.com
SEQUENCE:0
DTSTAMP:20260421T030358Z
DTSTART:20241107T180000Z
DTEND:20241107T190000Z
SUMMARY:Homeschooling Meet-Up (BL)
LOCATION:Manistee County Library (Bear Lake)\, 12325 Virginia Street Bear 
 Lake\, MI 49614
DESCRIPTION:<p>Come meet up and collaborate with other homeschooling paren
 ts. Bring your planner\, questions\, and any materials you think might be 
 helpful for other parents to know about.</p>\n<p>Kids welcome!&nbsp\;</p>\
 n<p>If you aren't homeschooling yet but have always thought about it\, fee
 l free to come and get some insight from other moms and dads.</p>\n<p>&nbs
 p\;</p>\n<p>This event is free. Registration is required for each adult at
 tending (no registration required for kids who are attending with parents)
 .</p>
URL;VALUE=URI:https://events.getlocalhop.com/homeschooling-meetup-bl/event
 /9A5PTO1heu/
END:VEVENT
END:VCALENDAR