BEGIN:VCALENDAR
VERSION:2.0
PRODID:-//events.getlocalhop.com//localhop-calendar//EN
URL:https://api.getlocalhop.com/calendar?instance=54NfKHFt7W&series=false
BEGIN:VEVENT
UID:event-instance-54NfKHFt7W@events.getlocalhop.com
SEQUENCE:0
DTSTAMP:20260420T193249Z
DTSTART:20211103T140000Z
DTEND:20211103T143000Z
SUMMARY:Mother Goose Storytime
LOCATION:Hendrick Hudson Free Library\, 185 Kings Ferry Road Montrose\, NY
  10548
DESCRIPTION:For children under age 2 years with adult caregiver. Join Miss
  Terri for simple stories\, songs and fingerplays in the children's progra
 m room where participants can safely social distance. Masks will be requir
 ed for everyone age 2 and above. REGISTRATION IS REQUIRED (parents/caregiv
 ers do not need to register). Space is limited to the first 6 participants
 . Note: There are two sessions each Wednesday - one at 9:15 a.m. and one a
 t 10:00 a.m. Please only register for one.
URL;VALUE=URI:https://events.getlocalhop.com/mother-goose-storytime/event/
 S2uHs7i5KQ/
END:VEVENT
END:VCALENDAR