BEGIN:VCALENDAR
VERSION:2.0
PRODID:-//events.getlocalhop.com//localhop-calendar//EN
URL:https://api.getlocalhop.com/calendar?instance=4pak3qlNBQ&series=false
BEGIN:VEVENT
UID:event-instance-4pak3qlNBQ@events.getlocalhop.com
SEQUENCE:0
DTSTAMP:20260421T001221Z
DTSTART:20250128T200000Z
DTEND:20250128T220000Z
SUMMARY:Kids Pokemon Play & Trade with Backstage Hobbies & Games (M)
LOCATION:Manistee County Library\, 95 Maple Street Manistee\, MI 49660\, M
 eeting Room
DESCRIPTION:<p>Learn from the fine folks at Backstage Hobbies &amp\; Games
  how to play Pokemon TCG!</p>\n<p>Bring your own deck or play with a borro
 wed example deck.</p>\n<p>Feel free to consult Ryan &amp\; Tree as to what
  trades are fair as well!</p>\n<p>Sign up is required to participate.</p>
URL;VALUE=URI:https://events.getlocalhop.com/kids-pokemon-play-and-trade-w
 ith-backstage-hobbies-and-games-m/event/PvaC7qCH03/
END:VEVENT
END:VCALENDAR