BEGIN:VCALENDAR
VERSION:2.0
PRODID:-//events.getlocalhop.com//localhop-calendar//EN
URL:https://api.getlocalhop.com/calendar?instance=4Q54wDsmje&series=false
BEGIN:VEVENT
UID:event-instance-4Q54wDsmje@events.getlocalhop.com
SEQUENCE:0
DTSTAMP:20260421T055300Z
DTSTART:20221005T223000Z
DTEND:20221005T233000Z
SUMMARY:Urban Fiction Book Club - In Love with a Brooklyn Thug
LOCATION:26300 Evergreen Road Southfield\, MI 48076\, Southfield Room on t
 he 3rd Level
DESCRIPTION:<p>The next Urban Fiction Book Club meeting is Oct. 5th in per
 son in the Southfield Meeting Room or meet on Zoom. The book we will be di
 scussing is \"In Love with a Brooklyn Thug\". The book is available on hoo
 pla on audio book. We also have the paper copy at the library. Refreshment
 s will be served. Email Adult Services Librarian Jesse Cleary at jcleary@s
 outhfieldlibrary.org for Zoom link or more information.&nbsp\; JC</p>
URL;VALUE=URI:https://events.getlocalhop.com/urban-fiction-book-club-in-lo
 ve-with-a-brooklyn-thug/event/7Xv5KGdZ7q/
END:VEVENT
END:VCALENDAR