BEGIN:VCALENDAR
VERSION:2.0
PRODID:-//events.getlocalhop.com//localhop-calendar//EN
URL:https://api.getlocalhop.com/calendar?instance=3gbY6XUArb&series=false
BEGIN:VEVENT
UID:event-instance-3gbY6XUArb@events.getlocalhop.com
SEQUENCE:0
DTSTAMP:20260422T172418Z
DTSTART:20260403T190000Z
DTEND:20260403T203000Z
SUMMARY:Easter Egg Hunt
LOCATION:M.R. Davis Public Library\, 8554 Northwest Drive Southaven\, MS 3
 8671
DESCRIPTION:<p>Join us for our Annual Easter Egg Hunt! Please bring someth
 ing to hold your eggs</p>\n<p>While you wait for your turn make a fun craf
 t inside the library! The Easter Bunny will be here for Photos!</p>\n<p>ag
 es 0-2 hunt from 2:10-2:30</p>\n<p>ages 3-5 hunt from 2:30- 2:50</p>\n<p>a
 ges 6-8 hunt from 2:50-3:10</p>\n<p>ages 9-12 hunt from 3:10 -3:30&nbsp\;<
 /p>
URL;VALUE=URI:https://events.getlocalhop.com/easter-egg-hunt/event/LNs5wXJ
 dYl/
END:VEVENT
END:VCALENDAR