BEGIN:VCALENDAR
VERSION:2.0
PRODID:-//events.getlocalhop.com//localhop-calendar//EN
URL:https://api.getlocalhop.com/calendar?instance=3b4XFYGJkt&series=false
BEGIN:VEVENT
UID:event-instance-3b4XFYGJkt@events.getlocalhop.com
SEQUENCE:0
DTSTAMP:20260423T132844Z
DTSTART:20260428T223000Z
DTEND:20260428T233000Z
SUMMARY:Ferndale Project Book Club
LOCATION:Ferndale Project\, 567 Livernois Ferndale\, MI 48220
DESCRIPTION:<p>Our monthly book club\, in partnership with the Ferndale Pr
 oject\, meets on the last Tuesday of each month. This event is hosted AT t
 he Ferndale Project at 567 Livernois.<br /><br /></p>\n<p>Join us for an i
 n-person book club event discussing <em>Enshittification </em>by Cory Doct
 orow on <strong>TUESDAY\, APRIL 28 at 6:30 PM.</strong> <br />&nbsp\;</p>\
 n<p>We'll have a few copies reserved at the Ferndale Library circulation d
 esk in early January or you can place a <a href=\"https://catalog.tln.lib.
 mi.us/?section=frbr&amp\;iid=1354940&amp\;currentIndex=0&amp\;frbrIndex=0&
 amp\;view=frbrFormatDisplayDetailsTab&amp\;branchFilters=%5B%5D&amp\;facet
 Filters=%5B%5D\">hold</a> online! &nbsp\;It's also available on Libby!&nbs
 p\;<br /><br /></p>\n<p><strong>About the book: </strong><a href=\"https:/
 /catalog.tln.lib.mi.us/?section=frbr&amp\;iid=1379944&amp\;currentIndex=0&
 amp\;frbrIndex=0&amp\;view=frbrFormatDisplayDetailsTab&amp\;facetFilters=%
 5B%5D\">Enshittification</a>: it's not just you--the internet sucks now. H
 ere's why\, and here's how we can disenshittify.<br /><br /><br /></p>\n<p
 >Questions? Email us: info@fadl.org &nbsp\; &nbsp\;</p>\n<p>[Hosted at Fer
 ndale Project]</p>
URL;VALUE=URI:https://events.getlocalhop.com/ferndale-project-book-club/ev
 ent/yqpNIBZwAR/
END:VEVENT
END:VCALENDAR