BEGIN:VCALENDAR
VERSION:2.0
PRODID:-//events.getlocalhop.com//localhop-calendar//EN
URL:https://api.getlocalhop.com/calendar?instance=3VsV9ikpUh&series=true
BEGIN:VEVENT
UID:event-instance-3VsV9ikpUh@events.getlocalhop.com
SEQUENCE:0
DTSTAMP:20260420T121439Z
DTSTART:20260423T140000Z
DTEND:20260423T143000Z
SUMMARY:Books & Boogie Story Time: All Ages
LOCATION:300 West Merrill Street Birmingham\, MI 48009\, Grams Discovery R
 oom
DESCRIPTION:<p>All ages with grown up(s).</p>\n<p>Join Ms. Alyssa for stor
 ies and songs that get you moving.</p>\n<p>Story times use a first come\, 
 first served ticketing system. Tickets will be available 15 minutes before
  story time begins and will be handed out until 5 minutes after the schedu
 led start time. Please see baldwinlib.org/storytime or click More Informat
 ion for complete details.</p>\n<p>&nbsp\;</p>
URL;VALUE=URI:https://events.getlocalhop.com/books-and-boogie-story-time-a
 ll-ages/event/K8Rm5txBVJ/
END:VEVENT
BEGIN:VEVENT
UID:event-instance-9sNtzl4pjT@events.getlocalhop.com
SEQUENCE:0
DTSTAMP:20260420T121439Z
DTSTART:20260430T140000Z
DTEND:20260430T143000Z
SUMMARY:Books & Boogie Story Time: All Ages
LOCATION:300 West Merrill Street Birmingham\, MI 48009\, Grams Discovery R
 oom
DESCRIPTION:<p>All ages with grown up(s).</p>\n<p>Join Ms. Alyssa for stor
 ies and songs that get you moving.</p>\n<p>Story times use a first come\, 
 first served ticketing system. Tickets will be available 15 minutes before
  story time begins and will be handed out until 5 minutes after the schedu
 led start time. Please see baldwinlib.org/storytime or click More Informat
 ion for complete details.</p>\n<p>&nbsp\;</p>
URL;VALUE=URI:https://events.getlocalhop.com/books-and-boogie-story-time-a
 ll-ages/event/K8Rm5txBVJ/
END:VEVENT
BEGIN:VEVENT
UID:event-instance-i6qYHfdzZo@events.getlocalhop.com
SEQUENCE:0
DTSTAMP:20260420T121439Z
DTSTART:20260507T140000Z
DTEND:20260507T143000Z
SUMMARY:Books & Boogie Story Time: All Ages
LOCATION:300 West Merrill Street Birmingham\, MI 48009\, Grams Discovery R
 oom
DESCRIPTION:<p>All ages with grown up(s).</p>\n<p>Join Ms. Alyssa for stor
 ies and songs that get you moving.</p>\n<p>Story times use a first come\, 
 first served ticketing system. Tickets will be available 15 minutes before
  story time begins and will be handed out until 5 minutes after the schedu
 led start time. Please see baldwinlib.org/storytime or click More Informat
 ion for complete details.</p>\n<p>&nbsp\;</p>
URL;VALUE=URI:https://events.getlocalhop.com/books-and-boogie-story-time-a
 ll-ages/event/K8Rm5txBVJ/
END:VEVENT
BEGIN:VEVENT
UID:event-instance-D5jSQaa0aa@events.getlocalhop.com
SEQUENCE:0
DTSTAMP:20260420T121439Z
DTSTART:20260514T140000Z
DTEND:20260514T143000Z
SUMMARY:Books & Boogie Story Time: All Ages
LOCATION:300 West Merrill Street Birmingham\, MI 48009\, Grams Discovery R
 oom
DESCRIPTION:<p>All ages with grown up(s).</p>\n<p>Join Ms. Alyssa for stor
 ies and songs that get you moving.</p>\n<p>Story times use a first come\, 
 first served ticketing system. Tickets will be available 15 minutes before
  story time begins and will be handed out until 5 minutes after the schedu
 led start time. Please see baldwinlib.org/storytime or click More Informat
 ion for complete details.</p>\n<p>&nbsp\;</p>
URL;VALUE=URI:https://events.getlocalhop.com/books-and-boogie-story-time-a
 ll-ages/event/K8Rm5txBVJ/
END:VEVENT
END:VCALENDAR