BEGIN:VCALENDAR
VERSION:2.0
PRODID:-//events.getlocalhop.com//localhop-calendar//EN
URL:https://api.getlocalhop.com/calendar?instance=3HwxCA4CWo&series=false
BEGIN:VEVENT
UID:event-instance-3HwxCA4CWo@events.getlocalhop.com
SEQUENCE:0
DTSTAMP:20260419T121214Z
DTSTART:20250812T190000Z
DTEND:20250812T210000Z
SUMMARY:AniManga Club
LOCATION:Redford Township District Library\, 25320 W. Six Mile Rd Redford\
 , MI 48240
DESCRIPTION:<p>Konnichiwa! Do you love anime\, manga\, and trying new trea
 ts? Then get yourself to the RTDL AniManga Club. Once a month\, we&rsquo\;
 ll meet up in-person to talk about upcoming titles\, debate our favorites\
 , watch anime\, try our hands at manga/anime style drawing\, try Japanese 
 snacks\, hang out\, and more. <br />For teens 12-18</p>\n<p>This is an in-
 person\, walk-in club which means stop in when you&rsquo\;re able and leav
 e when you need to&ndash\;no pressure to attend all or nothing!&nbsp\;</p>
 \n<p>Teen clubs\, meetings\, and programs at the Redford Township District
  Library are intended to be inclusive\, safe\, and welcoming spaces for al
 l\, regardless of race\, religion\, gender identity\, sexuality\, and abil
 ity. Any language or actions contrary to this philosophy will not be toler
 ated.</p>
URL;VALUE=URI:https://events.getlocalhop.com/animanga-club/event/zaPiCDmft
 A/
END:VEVENT
END:VCALENDAR