BEGIN:VCALENDAR
VERSION:2.0
PRODID:-//events.getlocalhop.com//localhop-calendar//EN
URL:https://api.getlocalhop.com/calendar?instance=3C8EeERnEX&series=false
BEGIN:VEVENT
UID:event-instance-3C8EeERnEX@events.getlocalhop.com
SEQUENCE:0
DTSTAMP:20260424T162452Z
DTSTART:20170521T180000Z
DTEND:20170521T203000Z
SUMMARY:Sister Act
LOCATION:Kalamazoo Civic Auditorium\, 329 S. Park St. Kalamazoo\, MI 49007
DESCRIPTION:Someone’s habits are about to change!  When Deloris Van Cartie
 r witnesses a murder\, she is put into protective custody in a dying conve
 nt.  Disguised as a nun\, she finds herself at odds with both the rigid li
 festyle and uptight Mother Superior. Using her unique disco moves and sing
 ing talent to inspire the choir\, Deloris breathes new life into the churc
 h and community but in doing so\, blows her cover. Soon\, the gang is givi
 ng chase only to find them up against Deloris and the power of her newly f
 ound sisterhood.  Filled with powerful gospel music\, outrageous dancing a
 nd a truly moving story\, 'Sister Act' features original music by Tony and
  8-time Oscar winner Alan Menken (Newsies\, Beauty and The Beast\, Little 
 Shop of Horrors.)  This uplifting musical was nominated for 5 Tony Awards 
 including Best Musical. A sparkling tribute to the universal power of frie
 ndship\, 'Sister Act' is sure to have you rejoicing!
URL;VALUE=URI:https://events.getlocalhop.com/sister-act/event/i89sx8AQpq/
END:VEVENT
END:VCALENDAR