BEGIN:VCALENDAR
VERSION:2.0
PRODID:-//events.getlocalhop.com//localhop-calendar//EN
URL:https://api.getlocalhop.com/calendar?instance=30wkyVNdlC&series=false
BEGIN:VEVENT
UID:event-instance-30wkyVNdlC@events.getlocalhop.com
SEQUENCE:0
DTSTAMP:20260421T133048Z
DTSTART:20240530T180000Z
DTEND:20240530T190000Z
SUMMARY:Homeschooling Meet-Up (M)
LOCATION:Manistee County Library\, 95 Maple Street Manistee\, MI 49660
DESCRIPTION:<p>Come meet with other homeschool parents for collaboration a
 nd support. See what other homeschool parents are doing and build connecti
 ons.</p>\n<p>Kids welcome!&nbsp\;</p>\n<p>If you aren't homeschooling yet 
 but have always thought about it\, feel free to come and get some insight 
 from other moms and dads.</p>\n<p>&nbsp\;</p>\n<p>This event is free. Regi
 stration is required.&nbsp\;</p>
URL;VALUE=URI:https://events.getlocalhop.com/homeschooling-meetup-m/event/
 49ZfmKZf0P/
END:VEVENT
END:VCALENDAR