BEGIN:VCALENDAR
VERSION:2.0
PRODID:-//events.getlocalhop.com//localhop-calendar//EN
URL:https://api.getlocalhop.com/calendar?instance=2z3cggb28O&series=false
BEGIN:VEVENT
UID:event-instance-2z3cggb28O@events.getlocalhop.com
SEQUENCE:0
DTSTAMP:20260424T160123Z
DTSTART:20260415T140000Z
DTEND:20260415T213000Z
SUMMARY:AAS Tax Preparation
LOCATION:Henry Ford Centennial Library\, 16301 Michigan Avenue Dearborn\, 
 MI 48126\, M-30
DESCRIPTION:<p>The Accounting Aid Society (AAS) will be offering free tax 
 preparation for individuals who qualify as lower income.&nbsp\; Appointmen
 ts are preferred.&nbsp\; Walk in clients are welcomed\, but are not guaran
 teed immediate service.&nbsp\;&nbsp\;</p>\n<p>To make an appointment or ge
 t more information please visit the AAS at <a href=\"https://accountingaid
 society.org/\">https://accountingaidsociety.org/</a>&nbsp\; &nbsp\;or by c
 alling 313-556-1920</p>
URL;VALUE=URI:https://events.getlocalhop.com/aas-tax-preparation/event/sDU
 88zCTDD/
END:VEVENT
END:VCALENDAR