BEGIN:VCALENDAR
VERSION:2.0
PRODID:-//events.getlocalhop.com//localhop-calendar//EN
URL:https://api.getlocalhop.com/calendar?instance=2ugeIEg9nZ&series=true
BEGIN:VEVENT
UID:event-instance-2ugeIEg9nZ@events.getlocalhop.com
SEQUENCE:0
DTSTAMP:20260423T132403Z
DTSTART:20260501T150000Z
DTEND:20260501T220000Z
SUMMARY:Take and Makes
LOCATION:Scio Branch Library\, 331 W. Main St. Scio\, OH 43988
DESCRIPTION:<p>Enjoy a new take-home craft each month--available while sup
 plies last!</p>\n<p>&nbsp\;</p>\n<p>Heart of the Home:&nbsp\; Create a sim
 ple keepsake for Mother's Day.&nbsp\; Pickup date May 1st.</p>\n<p>Summer 
 Vibes:&nbsp\; Make a fun and colorful windchime for summer. Pickup date Ju
 ne 5th.</p>\n<p>Red\, White &amp\; Blue: Design a patriotic keychain.&nbsp
 \; Pickup date July 3rd.</p>\n<p>&nbsp\;</p>
URL;VALUE=URI:https://events.getlocalhop.com/take-and-makes/event/G6d8snDB
 0t/
END:VEVENT
BEGIN:VEVENT
UID:event-instance-A72ScOj9Aj@events.getlocalhop.com
SEQUENCE:0
DTSTAMP:20260423T132403Z
DTSTART:20260605T150000Z
DTEND:20260605T220000Z
SUMMARY:Take and Makes
LOCATION:Scio Branch Library\, 331 W. Main St. Scio\, OH 43988
DESCRIPTION:<p>Enjoy a new take-home craft each month--available while sup
 plies last!</p>\n<p>&nbsp\;</p>\n<p>Heart of the Home:&nbsp\; Create a sim
 ple keepsake for Mother's Day.&nbsp\; Pickup date May 1st.</p>\n<p>Summer 
 Vibes:&nbsp\; Make a fun and colorful windchime for summer. Pickup date Ju
 ne 5th.</p>\n<p>Red\, White &amp\; Blue: Design a patriotic keychain.&nbsp
 \; Pickup date July 3rd.</p>\n<p>&nbsp\;</p>
URL;VALUE=URI:https://events.getlocalhop.com/take-and-makes/event/G6d8snDB
 0t/
END:VEVENT
BEGIN:VEVENT
UID:event-instance-f9c32rueNL@events.getlocalhop.com
SEQUENCE:0
DTSTAMP:20260423T132403Z
DTSTART:20260703T150000Z
DTEND:20260703T220000Z
SUMMARY:Take and Makes
LOCATION:Scio Branch Library\, 331 W. Main St. Scio\, OH 43988
DESCRIPTION:<p>Enjoy a new take-home craft each month--available while sup
 plies last!</p>\n<p>&nbsp\;</p>\n<p>Heart of the Home:&nbsp\; Create a sim
 ple keepsake for Mother's Day.&nbsp\; Pickup date May 1st.</p>\n<p>Summer 
 Vibes:&nbsp\; Make a fun and colorful windchime for summer. Pickup date Ju
 ne 5th.</p>\n<p>Red\, White &amp\; Blue: Design a patriotic keychain.&nbsp
 \; Pickup date July 3rd.</p>\n<p>&nbsp\;</p>
URL;VALUE=URI:https://events.getlocalhop.com/take-and-makes/event/G6d8snDB
 0t/
END:VEVENT
END:VCALENDAR