BEGIN:VCALENDAR
VERSION:2.0
PRODID:-//events.getlocalhop.com//localhop-calendar//EN
URL:https://api.getlocalhop.com/calendar?instance=2ilKbiOjJG&series=false
BEGIN:VEVENT
UID:event-instance-2ilKbiOjJG@events.getlocalhop.com
SEQUENCE:0
DTSTAMP:20260421T090330Z
DTSTART:20240801T170000Z
DTEND:20240801T184500Z
SUMMARY:MCD Nature Adventures: Wetlands (A)
LOCATION:Manistee County Library - Arcadia Branch\, 3586 Glovers Lake Rd. 
 Arcadia\, MI 49613
DESCRIPTION:<p>Manistee County Library is proud to partner with the Manist
 ee Conservation District to present three small-group \"day camps\" for a 
 limited number of students at our Manistee\, Arcadia and Wellston branches
 . We hope to grow this program to accommodate more students next year! For
  this reason registration is STRICTLY REQUIRED.</p>\n<p>These programs are
  targeted at children entering 3rd through 5th grade\, although slightly y
 ounger and older siblings are welcome (all children need to be registered)
 . &nbsp\;<span style=\"text-decoration: underline\;\">A parent or caregive
 r needs to stay for the duration of the program.</span></p>\n<p>Adventure 
 through Arcadia Marsh\, a unique habitat\, and explore. Luckily\, there is
  a universal access boardwalk to help us out! &nbsp\;Of special interest a
 re the birds that use Arcadia Marsh for their home. &nbsp\;We will meet at
  the Arcadia Marsh at the M22 Entrance\, weather permitting (light rain ok
 ay) but in the event of thunderstorms we will meet at the Arcadia Library.
  &nbsp\;Bring water\, comfortable shoes for walking\, and dress for all we
 ather conditions.</p>
URL;VALUE=URI:https://events.getlocalhop.com/mcd-nature-adventures-wetland
 s-a/event/nOM4N1KkeJ/
END:VEVENT
END:VCALENDAR