BEGIN:VCALENDAR
VERSION:2.0
PRODID:-//events.getlocalhop.com//localhop-calendar//EN
URL:https://api.getlocalhop.com/calendar?instance=2Es9tkhey0&series=false
BEGIN:VEVENT
UID:event-instance-2Es9tkhey0@events.getlocalhop.com
SEQUENCE:0
DTSTAMP:20260419T125330Z
DTSTART:20260716T230000Z
DTEND:20260717T000000Z
SUMMARY:Family Concert-Jim Gill
LOCATION:500 Olde Towne Rd. Rochester\, MI 48307
DESCRIPTION:<p>Get ready to sing\, clap\, dance\, and spin along during th
 is visit by award-winning musician and author Jim Gill. Jim Gill&rsquo\;s 
 distinctive music play creates the spirit of a family room in the concert 
 hall and is an invitation to children\, parents\, and grandparents to sing
  and play together! This concert will be outside\, so please bring chairs 
 and/or blankets. Registration required-please register all children &amp\;
  adults attending.</p>
URL;VALUE=URI:https://events.getlocalhop.com/family-concertjim-gill/event/
 lfkGzmnZ99/
END:VEVENT
END:VCALENDAR