BEGIN:VCALENDAR
VERSION:2.0
PRODID:-//events.getlocalhop.com//localhop-calendar//EN
URL:https://api.getlocalhop.com/calendar?instance=2BIIN3F5Tw&series=false
BEGIN:VEVENT
UID:event-instance-2BIIN3F5Tw@events.getlocalhop.com
SEQUENCE:0
DTSTAMP:20260421T071329Z
DTSTART:20240830T180000Z
DTEND:20240830T193000Z
SUMMARY:Watercolor Workshop for Adults: Painting Food (M)
LOCATION:Manistee County Library\, 95 Maple Street Manistee\, MI 49660
DESCRIPTION:<p>Create delectable paintings of fresh fruits and mouth-water
 ing sweet treats. Perfect little pictures to frame and display in your kit
 chen. Beginners and first-timers are welcome to join this free event for a
 dults.&nbsp\;</p>\n<p>Registration required.&nbsp\;</p>
URL;VALUE=URI:https://events.getlocalhop.com/watercolor-workshop-for-adult
 s-painting-food-m/event/qYeULLcZSL/
END:VEVENT
END:VCALENDAR