BEGIN:VCALENDAR
VERSION:2.0
PRODID:-//events.getlocalhop.com//localhop-calendar//EN
URL:https://api.getlocalhop.com/calendar?instance=26MdHFt1hk&series=false
BEGIN:VEVENT
UID:event-instance-26MdHFt1hk@events.getlocalhop.com
SEQUENCE:0
DTSTAMP:20260420T105650Z
DTSTART:20240215T233000Z
DTEND:20240216T013000Z
SUMMARY:February 2024 Wine Dinner
LOCATION:Alley Cat\, 31 N Saginaw Pontiac\, MI 48342\, Paissa Wine Cellar
DESCRIPTION:<p style=\"text-align: center\;\">5 course meal brought to you
  by Chef Daniel Martinez and his awesome Alley Cat staff.</p>\n<p style=\"
 text-align: center\;\">Wine Selection provided by Woodberry Wines.</p>\n<p
  style=\"text-align: center\;\">Thursday\, February 15\, 2024 6:30pm\, $10
 0/person\, 21+</p>\n<p style=\"text-align: center\;\">&nbsp\;</p>\n<p styl
 e=\"text-align: center\;\"><em>Love\, Like Wine\, Get&rsquo\;s Better With
  Time</em></p>\n<p style=\"text-align: center\;\"><br />1st Course</p>\n<p
  style=\"text-align: center\;\">African Spiced Shrimp Bisque<br />Amore Ro
 se</p>\n<p style=\"text-align: center\;\"><br />2nd Course</p>\n<p style=\
 "text-align: center\;\">Roast Chicken &amp\; Wild Mushroom Salad<br />Pach
 a Carmenere</p>\n<p style=\"text-align: center\;\"><br />3rd Course</p>\n<
 p style=\"text-align: center\;\">Aged Camembert with Fig Chutney<br />Amor
 e Red Blend</p>\n<p style=\"text-align: center\;\"><br />4th Course</p>\n<
 p style=\"text-align: center\;\">Sliced Tenderloin Au Poivre<br />Fleur Vi
 olette Cabernet Sauvignon</p>\n<p style=\"text-align: center\;\"><br />Des
 sert Course</p>\n<p style=\"text-align: center\;\">Chocolate Hazelnut Made
 leine with Truffle &amp\; Berries<br />Biutiful Cava Rose</p>\n<p style=\"
 text-align: center\;\">&nbsp\;</p>
URL;VALUE=URI:https://events.getlocalhop.com/february-2024-wine-dinner/eve
 nt/O0G2yh9Ga1/
END:VEVENT
END:VCALENDAR