BEGIN:VCALENDAR
VERSION:2.0
PRODID:-//events.getlocalhop.com//localhop-calendar//EN
URL:https://api.getlocalhop.com/calendar?instance=1quPz3a74r&series=false
BEGIN:VEVENT
UID:event-instance-1quPz3a74r@events.getlocalhop.com
SEQUENCE:0
DTSTAMP:20260424T114848Z
DTSTART:20250724T150000Z
DTEND:20250724T160000Z
SUMMARY:Science Heroes
LOCATION:Milton Public Library\, 430 E. High St. Milton\, WI 53563
DESCRIPTION:<p>Discover how fun &amp\; colorful science can be with hands-
 on experiments! This program is made possible by Storywagon \, a Prairie L
 akes Library Performance Series. For all ages. Registration required.</p>
URL;VALUE=URI:https://events.getlocalhop.com/science-heroes/event/lr7JfgYw
 a8/
END:VEVENT
END:VCALENDAR