BEGIN:VCALENDAR
VERSION:2.0
PRODID:-//events.getlocalhop.com//localhop-calendar//EN
URL:https://api.getlocalhop.com/calendar?instance=1dbBhyXNms&series=false
BEGIN:VEVENT
UID:event-instance-1dbBhyXNms@events.getlocalhop.com
SEQUENCE:0
DTSTAMP:20260422T120925Z
DTSTART:20260310T230000Z
DTEND:20260311T001500Z
SUMMARY:Hybrid: Selling Online
LOCATION:300 West Merrill Street Birmingham\, MI 48009
DESCRIPTION:<p>In this class\, we will: - Navigate the eBay website. - Sea
 rch for items that are of interest to us. - List an item for sale. A half 
 hour before class\, virtual students will be notified with directions on h
 ow to log into the Zoom session.</p>
URL;VALUE=URI:https://events.getlocalhop.com/hybrid-selling-online/event/y
 i1RcVHP4t/
END:VEVENT
END:VCALENDAR