BEGIN:VCALENDAR
VERSION:2.0
PRODID:-//events.getlocalhop.com//localhop-calendar//EN
URL:https://api.getlocalhop.com/calendar?instance=1dZxjmIMZj&series=false
BEGIN:VEVENT
UID:event-instance-1dZxjmIMZj@events.getlocalhop.com
SEQUENCE:0
DTSTAMP:20260421T025100Z
DTSTART:20241109T200000Z
DTEND:20241109T210000Z
SUMMARY:War of the Worlds
LOCATION:Ramsdell Regional Center for the Arts\, 101 Maple Street Manistee
 \, MI 49660\, Hardy Hall - Enter through Maple Street Gallery Doors
DESCRIPTION:<p>Join us at Ramsdell's Hardy Hall for a readers theatre perf
 ormance of \"War of the Worlds\" Radio Broadcast.</p>\n<p>H. G. Welles\, d
 irector and star of radio drama Mercury Theatre on the Air was just 23 yea
 rs old when the science fiction broadcast \"went viral\" on Oct. 30\, 1938
 . Enjoy this live reading featuring local actors at the Ramsdell's Hardy H
 all in Manistee.&nbsp\;<br /><br />This event is a collaboration between M
 anistee County Library\, Manistee Civic Players and the Ramsdell Regional 
 Center for the Arts.</p>\n<p>This event is free. Adult beverages and soft 
 drinks will be available for purchase during the event.&nbsp\;</p>\n<p>Thi
 s event is intended for adults and teens. Registration is required.&nbsp\;
 </p>
URL;VALUE=URI:https://events.getlocalhop.com/war-of-the-worlds/event/Gj28x
 RYpIz/
END:VEVENT
END:VCALENDAR