BEGIN:VCALENDAR
VERSION:2.0
PRODID:-//events.getlocalhop.com//localhop-calendar//EN
URL:https://api.getlocalhop.com/calendar?instance=0yJXsGClDu&series=false
BEGIN:VEVENT
UID:event-instance-0yJXsGClDu@events.getlocalhop.com
SEQUENCE:0
DTSTAMP:20260419T125649Z
DTSTART:20260424T223000Z
DTEND:20260424T233000Z
SUMMARY:Reel Talk Discussion: The Princess Bride
LOCATION:Fontana Public Library\, 166 2nd Ave Geneva Lake\, WI 53125
DESCRIPTION:<p>Join us for Reel Talk featuring The Princess Bride! We&rsqu
 o\;ll host a movie showing on April 22 at 5:30 PM\, followed by a relaxed 
 group discussion on April 24 at 5:30 PM.</p>\n<p>Attend just the showing\,
  just the discussion\, or both...whatever works for you! If you can&rsquo\
 ;t make the screening\, you&rsquo\;re welcome to watch at home and still j
 oin the conversation.</p>\n<p>Copies of the film will be available to chec
 k out at the library because missing out would be simply &ldquo\;Inconceiv
 able!&rdquo\;</p>
URL;VALUE=URI:https://events.getlocalhop.com/reel-talk-discussion-the-prin
 cess-bride/event/Iugi28rMq9/
END:VEVENT
END:VCALENDAR