BEGIN:VCALENDAR
VERSION:2.0
PRODID:-//events.getlocalhop.com//localhop-calendar//EN
URL:https://api.getlocalhop.com/calendar?instance=0og4IGhvGV&series=true
BEGIN:VEVENT
UID:event-instance-0og4IGhvGV@events.getlocalhop.com
SEQUENCE:0
DTSTAMP:20260424T134209Z
DTSTART:20260428T220000Z
DTEND:20260428T230000Z
SUMMARY:Bed Time Story Time!
LOCATION:Louisville Public Library\, 1600 S Nickelplate St.\, Louisville\,
  OH 44641 Louisville\, OH 44641
DESCRIPTION:<p>Join us every<strong>&nbsp\;Tuesday evening</strong> in the
  Wiseman Discovery Center sensory room for Bed Time Story Time!&nbsp\; We'
 ll do some mellow activities\, then snuggle down while Ms. Deb reads bedti
 me stories to finish out the night. Wear your jammies\, bring your plushy 
 and blanket\, and plan to doze off on the way home!</p>\n<p>No worries\, c
 aregivers\, you can bring the bigger kids\, too!&nbsp\; All ages are welco
 me to Bed Time Story Time.</p>
URL;VALUE=URI:https://events.getlocalhop.com/bed-time-story-time/event/fAd
 H5DEP46/
END:VEVENT
BEGIN:VEVENT
UID:event-instance-Kjb54FNA6c@events.getlocalhop.com
SEQUENCE:0
DTSTAMP:20260424T134209Z
DTSTART:20260505T220000Z
DTEND:20260505T230000Z
SUMMARY:Bed Time Story Time!
LOCATION:Louisville Public Library\, 1600 S Nickelplate St.\, Louisville\,
  OH 44641 Louisville\, OH 44641
DESCRIPTION:<p>Join us every<strong>&nbsp\;Tuesday evening</strong> in the
  Wiseman Discovery Center sensory room for Bed Time Story Time!&nbsp\; We'
 ll do some mellow activities\, then snuggle down while Ms. Deb reads bedti
 me stories to finish out the night. Wear your jammies\, bring your plushy 
 and blanket\, and plan to doze off on the way home!</p>\n<p>No worries\, c
 aregivers\, you can bring the bigger kids\, too!&nbsp\; All ages are welco
 me to Bed Time Story Time.</p>
URL;VALUE=URI:https://events.getlocalhop.com/bed-time-story-time/event/fAd
 H5DEP46/
END:VEVENT
BEGIN:VEVENT
UID:event-instance-LsRvllQ5qL@events.getlocalhop.com
SEQUENCE:0
DTSTAMP:20260424T134209Z
DTSTART:20260512T220000Z
DTEND:20260512T230000Z
SUMMARY:Bed Time Story Time!
LOCATION:Louisville Public Library\, 1600 S Nickelplate St.\, Louisville\,
  OH 44641 Louisville\, OH 44641
DESCRIPTION:<p>Join us every<strong>&nbsp\;Tuesday evening</strong> in the
  Wiseman Discovery Center sensory room for Bed Time Story Time!&nbsp\; We'
 ll do some mellow activities\, then snuggle down while Ms. Deb reads bedti
 me stories to finish out the night. Wear your jammies\, bring your plushy 
 and blanket\, and plan to doze off on the way home!</p>\n<p>No worries\, c
 aregivers\, you can bring the bigger kids\, too!&nbsp\; All ages are welco
 me to Bed Time Story Time.</p>
URL;VALUE=URI:https://events.getlocalhop.com/bed-time-story-time/event/fAd
 H5DEP46/
END:VEVENT
BEGIN:VEVENT
UID:event-instance-pdCWSKcWoY@events.getlocalhop.com
SEQUENCE:0
DTSTAMP:20260424T134209Z
DTSTART:20260519T220000Z
DTEND:20260519T230000Z
SUMMARY:Bed Time Story Time!
LOCATION:Louisville Public Library\, 1600 S Nickelplate St.\, Louisville\,
  OH 44641 Louisville\, OH 44641
DESCRIPTION:<p>Join us every<strong>&nbsp\;Tuesday evening</strong> in the
  Wiseman Discovery Center sensory room for Bed Time Story Time!&nbsp\; We'
 ll do some mellow activities\, then snuggle down while Ms. Deb reads bedti
 me stories to finish out the night. Wear your jammies\, bring your plushy 
 and blanket\, and plan to doze off on the way home!</p>\n<p>No worries\, c
 aregivers\, you can bring the bigger kids\, too!&nbsp\; All ages are welco
 me to Bed Time Story Time.</p>
URL;VALUE=URI:https://events.getlocalhop.com/bed-time-story-time/event/fAd
 H5DEP46/
END:VEVENT
END:VCALENDAR