BEGIN:VCALENDAR
VERSION:2.0
PRODID:-//events.getlocalhop.com//localhop-calendar//EN
URL:https://api.getlocalhop.com/calendar?instance=0mdSr5lnYf&series=false
BEGIN:VEVENT
UID:event-instance-0mdSr5lnYf@events.getlocalhop.com
SEQUENCE:0
DTSTAMP:20260420T110201Z
DTSTART:20241207T153000Z
DTEND:20241207T163000Z
SUMMARY:Chair Yoga
LOCATION:Franklin Public Library\, 9151 West Loomis Road Franklin\, WI 531
 32
DESCRIPTION:<p>Practice yoga while sitting on a chair or standing using a 
 chair for support. Please note: There is NO CLASS on Saturdays\, September
  21\, November 2\, 30 and December 14. <strong>Registration is required an
 d begins Monday\, August 5</strong>.&nbsp\;</p>
URL;VALUE=URI:https://events.getlocalhop.com/chair-yoga/event/CSSTEUndzV/
END:VEVENT
END:VCALENDAR